BEGIN:VCALENDAR
VERSION:2.0
PRODID:-//Hlubek Piano Studio - ECPv6.15.20//NONSGML v1.0//EN
CALSCALE:GREGORIAN
METHOD:PUBLISH
X-ORIGINAL-URL:https://hlubekstudio.com
X-WR-CALDESC:Events for Hlubek Piano Studio
REFRESH-INTERVAL;VALUE=DURATION:PT1H
X-Robots-Tag:noindex
X-PUBLISHED-TTL:PT1H
BEGIN:VTIMEZONE
TZID:UTC
BEGIN:STANDARD
TZOFFSETFROM:+0000
TZOFFSETTO:+0000
TZNAME:UTC
DTSTART:20240101T000000
END:STANDARD
END:VTIMEZONE
BEGIN:VEVENT
DTSTART;VALUE=DATE:20251023
DTEND;VALUE=DATE:20251027
DTSTAMP:20260424T031926
CREATED:20250725T153935Z
LAST-MODIFIED:20250725T153935Z
UID:2388-1761177600-1761523199@hlubekstudio.com
SUMMARY:No lessons
DESCRIPTION:
URL:https://hlubekstudio.com/event/no-lessons-3/
LOCATION:Oklahoma
END:VEVENT
BEGIN:VEVENT
DTSTART;TZID=UTC:20251025T080000
DTEND;TZID=UTC:20251025T170000
DTSTAMP:20260424T031926
CREATED:20250726T192416Z
LAST-MODIFIED:20250726T192416Z
UID:2411-1761379200-1761411600@hlubekstudio.com
SUMMARY:Xmas  Clavinova Rehearsal
DESCRIPTION:
URL:https://hlubekstudio.com/event/xmas-clavinova-rehearsal-3/
LOCATION:Larsen Music\, 4001 NW 63rd.\, Oklahoma City\, Oklahoma\, 73116
END:VEVENT
END:VCALENDAR