BEGIN:VCALENDAR
VERSION:2.0
PRODID:-//Hlubek Piano Studio - ECPv6.15.20//NONSGML v1.0//EN
CALSCALE:GREGORIAN
METHOD:PUBLISH
X-WR-CALNAME:Hlubek Piano Studio
X-ORIGINAL-URL:https://hlubekstudio.com
X-WR-CALDESC:Events for Hlubek Piano Studio
REFRESH-INTERVAL;VALUE=DURATION:PT1H
X-Robots-Tag:noindex
X-PUBLISHED-TTL:PT1H
BEGIN:VTIMEZONE
TZID:UTC
BEGIN:STANDARD
TZOFFSETFROM:+0000
TZOFFSETTO:+0000
TZNAME:UTC
DTSTART:20230101T000000
END:STANDARD
END:VTIMEZONE
BEGIN:VEVENT
DTSTART;VALUE=DATE:20241128
DTEND;VALUE=DATE:20241202
DTSTAMP:20260425T111211
CREATED:20240818T044302Z
LAST-MODIFIED:20240818T044302Z
UID:1749-1732752000-1733097599@hlubekstudio.com
SUMMARY:Thanksgiving Break
DESCRIPTION:
URL:https://hlubekstudio.com/event/thanksgiving-break-2/
LOCATION:Hlubek Studio
END:VEVENT
BEGIN:VEVENT
DTSTART;TZID=UTC:20241203T163000
DTEND;TZID=UTC:20241203T201500
DTSTAMP:20260425T111211
CREATED:20241125T142257Z
LAST-MODIFIED:20241125T143924Z
UID:1836-1733243400-1733256900@hlubekstudio.com
SUMMARY:Clavinova Rehearsal
DESCRIPTION:
URL:https://hlubekstudio.com/event/clavinova-rehearsal-no-lessons/
LOCATION:Larsen Music\, 4001 NW 63rd.\, Oklahoma City\, Oklahoma\, 73116
END:VEVENT
BEGIN:VEVENT
DTSTART;TZID=UTC:20241204T170000
DTEND;TZID=UTC:20241204T174500
DTSTAMP:20260425T111211
CREATED:20241125T143753Z
LAST-MODIFIED:20241125T143753Z
UID:1842-1733331600-1733334300@hlubekstudio.com
SUMMARY:Clavinova Rehearsal
DESCRIPTION:
URL:https://hlubekstudio.com/event/clavinova-rehearsal-8/
LOCATION:Larsen Music\, 4001 NW 63rd.\, Oklahoma City\, Oklahoma\, 73116
END:VEVENT
BEGIN:VEVENT
DTSTART;TZID=UTC:20241205T163000
DTEND;TZID=UTC:20241205T201500
DTSTAMP:20260425T111211
CREATED:20241125T144254Z
LAST-MODIFIED:20241125T144254Z
UID:1845-1733416200-1733429700@hlubekstudio.com
SUMMARY:Clavinova Rehearsal- No Lessons
DESCRIPTION:
URL:https://hlubekstudio.com/event/clavinova-rehearsal-no-lessons-2/
LOCATION:Larsen Music\, 4001 NW 63rd.\, Oklahoma City\, Oklahoma\, 73116
END:VEVENT
BEGIN:VEVENT
DTSTART;TZID=UTC:20241207T090000
DTEND;TZID=UTC:20241207T153000
DTSTAMP:20260425T111211
CREATED:20240818T044411Z
LAST-MODIFIED:20241125T144037Z
UID:1751-1733562000-1733585400@hlubekstudio.com
SUMMARY:Xmas Clavinova Performance
DESCRIPTION:
URL:https://hlubekstudio.com/event/xmas-clavinova-performance/
LOCATION:Larsen Music\, 4001 NW 63rd.\, Oklahoma City\, Oklahoma\, 73116
END:VEVENT
BEGIN:VEVENT
DTSTART;VALUE=DATE:20241208
DTEND;VALUE=DATE:20241209
DTSTAMP:20260425T111211
CREATED:20240818T044848Z
LAST-MODIFIED:20240818T044848Z
UID:1759-1733616000-1733702399@hlubekstudio.com
SUMMARY:Xmas Break
DESCRIPTION:
URL:https://hlubekstudio.com/event/xmas-break/
LOCATION:Hlubek Studio
END:VEVENT
BEGIN:VEVENT
DTSTART;TZID=UTC:20241215T130000
DTEND;TZID=UTC:20241215T150000
DTSTAMP:20260425T111211
CREATED:20241125T144424Z
LAST-MODIFIED:20241125T144534Z
UID:1847-1734267600-1734274800@hlubekstudio.com
SUMMARY:Von Maur Performances
DESCRIPTION:
URL:https://hlubekstudio.com/event/von-maur-performances/
LOCATION:Oklahoma
END:VEVENT
END:VCALENDAR