BEGIN:VCALENDAR
VERSION:2.0
PRODID:-//Hlubek Piano Studio - ECPv6.15.20//NONSGML v1.0//EN
CALSCALE:GREGORIAN
METHOD:PUBLISH
X-ORIGINAL-URL:https://hlubekstudio.com
X-WR-CALDESC:Events for Hlubek Piano Studio
REFRESH-INTERVAL;VALUE=DURATION:PT1H
X-Robots-Tag:noindex
X-PUBLISHED-TTL:PT1H
BEGIN:VTIMEZONE
TZID:UTC
BEGIN:STANDARD
TZOFFSETFROM:+0000
TZOFFSETTO:+0000
TZNAME:UTC
DTSTART:20230101T000000
END:STANDARD
END:VTIMEZONE
BEGIN:VEVENT
DTSTART;VALUE=DATE:20241006
DTEND;VALUE=DATE:20241007
DTSTAMP:20260425T170141
CREATED:20240818T043817Z
LAST-MODIFIED:20240818T043817Z
UID:1739-1728172800-1728259199@hlubekstudio.com
SUMMARY:Jazz Lab Performances
DESCRIPTION:
URL:https://hlubekstudio.com/event/jazz-lab-performances/
LOCATION:UCO Jazz Lab\, 100 E. 5th St.\, Edmond\, OK\, 73034\, United States
END:VEVENT
BEGIN:VEVENT
DTSTART;VALUE=DATE:20241011
DTEND;VALUE=DATE:20241012
DTSTAMP:20260425T170141
CREATED:20240901T170136Z
LAST-MODIFIED:20240901T170136Z
UID:1785-1728604800-1728691199@hlubekstudio.com
SUMMARY:Deadline Theory Escape Room
DESCRIPTION:
URL:https://hlubekstudio.com/event/deadline-theory-escape-room/
LOCATION:Oklahoma
END:VEVENT
BEGIN:VEVENT
DTSTART;VALUE=DATE:20241026
DTEND;VALUE=DATE:20241027
DTSTAMP:20260425T170141
CREATED:20240818T043908Z
LAST-MODIFIED:20240818T043908Z
UID:1741-1729900800-1729987199@hlubekstudio.com
SUMMARY:Xmas Clavinova Rehearsal
DESCRIPTION:
URL:https://hlubekstudio.com/event/xmas-clavinova-rehearsal/
LOCATION:Larsen Music\, 4001 NW 63rd.\, Oklahoma City\, Oklahoma\, 73116
END:VEVENT
BEGIN:VEVENT
DTSTART;TZID=UTC:20241031T080000
DTEND;TZID=UTC:20241031T200000
DTSTAMP:20260425T170141
CREATED:20241014T154104Z
LAST-MODIFIED:20241014T154104Z
UID:1827-1730361600-1730404800@hlubekstudio.com
SUMMARY:Halloween- NO Lessons
DESCRIPTION:
URL:https://hlubekstudio.com/event/halloween-no-lessons/
LOCATION:Hlubek Studio
END:VEVENT
END:VCALENDAR