BEGIN:VCALENDAR
VERSION:2.0
PRODID:-//Hlubek Piano Studio - ECPv6.15.20//NONSGML v1.0//EN
CALSCALE:GREGORIAN
METHOD:PUBLISH
X-WR-CALNAME:Hlubek Piano Studio
X-ORIGINAL-URL:https://hlubekstudio.com
X-WR-CALDESC:Events for Hlubek Piano Studio
REFRESH-INTERVAL;VALUE=DURATION:PT1H
X-Robots-Tag:noindex
X-PUBLISHED-TTL:PT1H
BEGIN:VTIMEZONE
TZID:UTC
BEGIN:STANDARD
TZOFFSETFROM:+0000
TZOFFSETTO:+0000
TZNAME:UTC
DTSTART:20230101T000000
END:STANDARD
END:VTIMEZONE
BEGIN:VEVENT
DTSTART;VALUE=DATE:20240905
DTEND;VALUE=DATE:20240909
DTSTAMP:20260425T232711
CREATED:20240818T043010Z
LAST-MODIFIED:20240818T043137Z
UID:1732-1725494400-1725839999@hlubekstudio.com
SUMMARY:No Lessons- at MTNA Summit
DESCRIPTION:
URL:https://hlubekstudio.com/event/2024-fall-session-begins/
LOCATION:Hlubek Studio
END:VEVENT
BEGIN:VEVENT
DTSTART;TZID=UTC:20240907T090000
DTEND;TZID=UTC:20240907T130000
DTSTAMP:20260425T232711
CREATED:20240818T043236Z
LAST-MODIFIED:20240818T043429Z
UID:1735-1725699600-1725714000@hlubekstudio.com
SUMMARY:Mandatory Clavinova
DESCRIPTION:
URL:https://hlubekstudio.com/event/mandatory-clavinova/
LOCATION:Larsen Music\, 4001 NW 63rd.\, Oklahoma City\, Oklahoma\, 73116
END:VEVENT
BEGIN:VEVENT
DTSTART;VALUE=DATE:20240909
DTEND;VALUE=DATE:20240910
DTSTAMP:20260425T232711
CREATED:20240818T175501Z
LAST-MODIFIED:20240818T180016Z
UID:1774-1725840000-1725926399@hlubekstudio.com
SUMMARY:Deadline for Christmas Clavinova Ensemble Entry Forms
DESCRIPTION:
URL:https://hlubekstudio.com/event/deadline-for-christmas-clavinova-ensembles/
LOCATION:Larsen Music\, 4001 NW 63rd.\, Oklahoma City\, Oklahoma\, 73116
END:VEVENT
BEGIN:VEVENT
DTSTART;TZID=UTC:20240914T110000
DTEND;TZID=UTC:20240914T123000
DTSTAMP:20260425T232711
CREATED:20240818T043647Z
LAST-MODIFIED:20240825T222700Z
UID:1737-1726311600-1726317000@hlubekstudio.com
SUMMARY:Clavinova Performance
DESCRIPTION:
URL:https://hlubekstudio.com/event/clavinova-performance/
LOCATION:Church of the Servant\, 14343 N. MacArthur Blvd.\, Oklahoma City\, OK\, 73142\, United States
END:VEVENT
END:VCALENDAR