BEGIN:VCALENDAR
VERSION:2.0
PRODID:-//Hlubek Piano Studio - ECPv6.15.20//NONSGML v1.0//EN
CALSCALE:GREGORIAN
METHOD:PUBLISH
X-WR-CALNAME:Hlubek Piano Studio
X-ORIGINAL-URL:https://hlubekstudio.com
X-WR-CALDESC:Events for Hlubek Piano Studio
REFRESH-INTERVAL;VALUE=DURATION:PT1H
X-Robots-Tag:noindex
X-PUBLISHED-TTL:PT1H
BEGIN:VTIMEZONE
TZID:UTC
BEGIN:STANDARD
TZOFFSETFROM:+0000
TZOFFSETTO:+0000
TZNAME:UTC
DTSTART:20210101T000000
END:STANDARD
END:VTIMEZONE
BEGIN:VEVENT
DTSTART;VALUE=DATE:20230506
DTEND;VALUE=DATE:20230507
DTSTAMP:20260425T133814
CREATED:20220823T171510Z
LAST-MODIFIED:20220823T171800Z
UID:652-1683331200-1683417599@hlubekstudio.com
SUMMARY:COMTA Festival
DESCRIPTION:
URL:https://hlubekstudio.com/event/easter-no-lessons/
LOCATION:Oklahoma Christian University\, 2501 E Memorial\, Oklahoma City\, Oklahoma
END:VEVENT
BEGIN:VEVENT
DTSTART;VALUE=DATE:20230429
DTEND;VALUE=DATE:20230430
DTSTAMP:20260425T133814
CREATED:20230108T175539Z
LAST-MODIFIED:20230108T175539Z
UID:735-1682726400-1682812799@hlubekstudio.com
SUMMARY:OMTA Senior Competition
DESCRIPTION:
URL:https://hlubekstudio.com/event/omta-senior-competition/
LOCATION:Gilliam Music\, 2280 W. Main Street\, Norman\, Oklahoma\, 73069
END:VEVENT
BEGIN:VEVENT
DTSTART;VALUE=DATE:20230409
DTEND;VALUE=DATE:20230410
DTSTAMP:20260425T133814
CREATED:20220823T172056Z
LAST-MODIFIED:20220823T172056Z
UID:655-1680998400-1681084799@hlubekstudio.com
SUMMARY:Easter- No Lessons
DESCRIPTION:
URL:https://hlubekstudio.com/event/easter-no-lessons-2/
END:VEVENT
BEGIN:VEVENT
DTSTART;VALUE=DATE:20230401
DTEND;VALUE=DATE:20230402
DTSTAMP:20260425T133814
CREATED:20220813T205901Z
LAST-MODIFIED:20220813T205930Z
UID:502-1680307200-1680393599@hlubekstudio.com
SUMMARY:OMTA District Achievement Auditions
DESCRIPTION:
URL:https://hlubekstudio.com/event/omta-district-achievement-auditions/
LOCATION:Oklahoma Christian University\, 2501 E Memorial\, Oklahoma City\, Oklahoma
END:VEVENT
BEGIN:VEVENT
DTSTART;TZID=UTC:20230330T080000
DTEND;TZID=UTC:20230330T170000
DTSTAMP:20260425T133814
CREATED:20220823T171416Z
LAST-MODIFIED:20220823T171416Z
UID:650-1680163200-1680195600@hlubekstudio.com
SUMMARY:March 30- Group Lessons
DESCRIPTION:
URL:https://hlubekstudio.com/event/march-30-group-lessons/
LOCATION:Hlubek Studio
END:VEVENT
BEGIN:VEVENT
DTSTART;VALUE=DATE:20230326
DTEND;VALUE=DATE:20230330
DTSTAMP:20260425T133814
CREATED:20220823T171329Z
LAST-MODIFIED:20220823T171329Z
UID:648-1679788800-1680134399@hlubekstudio.com
SUMMARY:Music Teachers Association National Conference- No Lessons
DESCRIPTION:
URL:https://hlubekstudio.com/event/music-teachers-association-national-conference-no-lessons/
END:VEVENT
BEGIN:VEVENT
DTSTART;VALUE=DATE:20230313
DTEND;VALUE=DATE:20230320
DTSTAMP:20260425T133814
CREATED:20220823T171233Z
LAST-MODIFIED:20230217T000802Z
UID:646-1678665600-1679270399@hlubekstudio.com
SUMMARY:Spring Break- No Lessons
DESCRIPTION:
URL:https://hlubekstudio.com/event/spring-break-no-lessons/
END:VEVENT
BEGIN:VEVENT
DTSTART;VALUE=DATE:20230211
DTEND;VALUE=DATE:20230212
DTSTAMP:20260425T133814
CREATED:20220813T205720Z
LAST-MODIFIED:20220813T205731Z
UID:500-1676073600-1676159999@hlubekstudio.com
SUMMARY:Hlubek Studio Theory Day
DESCRIPTION:
URL:https://hlubekstudio.com/event/hlubek-studio-theory-day/
LOCATION:Hlubek Studio
END:VEVENT
BEGIN:VEVENT
DTSTART;VALUE=DATE:20221210
DTEND;VALUE=DATE:20221211
DTSTAMP:20260425T133814
CREATED:20220813T205609Z
LAST-MODIFIED:20220813T205624Z
UID:496-1670630400-1670716799@hlubekstudio.com
SUMMARY:Christmas Clavinova Ensemble Festival
DESCRIPTION:
URL:https://hlubekstudio.com/event/christmas-clavinova-ensemble-festival/
LOCATION:Larsen Music\, 4001 NW 63rd.\, Oklahoma City\, Oklahoma\, 73116
END:VEVENT
BEGIN:VEVENT
DTSTART;VALUE=DATE:20221206
DTEND;VALUE=DATE:20221228
DTSTAMP:20260425T133814
CREATED:20220823T165241Z
LAST-MODIFIED:20220823T165649Z
UID:637-1670284800-1672185599@hlubekstudio.com
SUMMARY:Christmas Recess Begins- No Lessons
DESCRIPTION:
URL:https://hlubekstudio.com/event/christmas-recess-begins-no-lessons-2/
END:VEVENT
BEGIN:VEVENT
DTSTART;VALUE=DATE:20221206
DTEND;VALUE=DATE:20221209
DTSTAMP:20260425T133814
CREATED:20220823T164858Z
LAST-MODIFIED:20220823T165730Z
UID:634-1670284800-1670543999@hlubekstudio.com
SUMMARY:Clavinova Festival Ensemble Rehearsals
DESCRIPTION:
URL:https://hlubekstudio.com/event/christmas-recess-begins-no-lessons/
LOCATION:Larsen Music\, 4001 NW 63rd.\, Oklahoma City\, Oklahoma\, 73116
END:VEVENT
BEGIN:VEVENT
DTSTART;VALUE=DATE:20221203
DTEND;VALUE=DATE:20221204
DTSTAMP:20260425T133814
CREATED:20220813T205158Z
LAST-MODIFIED:20220813T205227Z
UID:494-1670025600-1670111999@hlubekstudio.com
SUMMARY:Hlubek Studio Christmas Recital
DESCRIPTION:
URL:https://hlubekstudio.com/event/hlubek-studio-christmas-recital/
LOCATION:Spring Creek Baptist Church\, 11701 N. MacArthur\, Oklahoma City\, OK\, 73162\, United States
END:VEVENT
BEGIN:VEVENT
DTSTART;VALUE=DATE:20221121
DTEND;VALUE=DATE:20221126
DTSTAMP:20260425T133814
CREATED:20220823T164708Z
LAST-MODIFIED:20220823T164737Z
UID:630-1668988800-1669420799@hlubekstudio.com
SUMMARY:Thanksgiving Recess- No Lessons
DESCRIPTION:
URL:https://hlubekstudio.com/event/thanksgiving-recess/
END:VEVENT
BEGIN:VEVENT
DTSTART;VALUE=DATE:20221112
DTEND;VALUE=DATE:20221113
DTSTAMP:20260425T133814
CREATED:20221020T172446Z
LAST-MODIFIED:20221020T172446Z
UID:704-1668211200-1668297599@hlubekstudio.com
SUMMARY:Christmas Clavinova Ensemble Rehearsal
DESCRIPTION:
URL:https://hlubekstudio.com/event/christmas-clavinova-ensemble-rehearsal-2/
LOCATION:Larsen Music\, 4001 NW 63rd.\, Oklahoma City\, Oklahoma\, 73116
END:VEVENT
BEGIN:VEVENT
DTSTART;VALUE=DATE:20221029
DTEND;VALUE=DATE:20221031
DTSTAMP:20260425T133814
CREATED:20220813T205110Z
LAST-MODIFIED:20220813T205110Z
UID:491-1667001600-1667174399@hlubekstudio.com
SUMMARY:COMTA Theory Escape Room
DESCRIPTION:
URL:https://hlubekstudio.com/event/comta-theory-escape-room/
LOCATION:Spring Creek Baptist Church\, 11701 N. MacArthur\, Oklahoma City\, OK\, 73162\, United States
END:VEVENT
BEGIN:VEVENT
DTSTART;VALUE=DATE:20221022
DTEND;VALUE=DATE:20221023
DTSTAMP:20260425T133814
CREATED:20221020T172031Z
LAST-MODIFIED:20221020T172031Z
UID:702-1666396800-1666483199@hlubekstudio.com
SUMMARY:Christmas Clavinova Ensemble Rehearsal
DESCRIPTION:
URL:https://hlubekstudio.com/event/christmas-clavinova-ensemble-rehearsal/
LOCATION:Larsen Music\, 4001 NW 63rd.\, Oklahoma City\, Oklahoma\, 73116
END:VEVENT
BEGIN:VEVENT
DTSTART;VALUE=DATE:20221010
DTEND;VALUE=DATE:20221018
DTSTAMP:20260425T133814
CREATED:20220823T164612Z
LAST-MODIFIED:20220823T164612Z
UID:628-1665360000-1666051199@hlubekstudio.com
SUMMARY:Fall Break- No Lessons
DESCRIPTION:
URL:https://hlubekstudio.com/event/fall-break-no-lessons/
END:VEVENT
BEGIN:VEVENT
DTSTART;VALUE=DATE:20221008
DTEND;VALUE=DATE:20221009
DTSTAMP:20260425T133814
CREATED:20220813T204829Z
LAST-MODIFIED:20220813T204829Z
UID:488-1665187200-1665273599@hlubekstudio.com
SUMMARY:Hlubek Studio Performance Day
DESCRIPTION:
URL:https://hlubekstudio.com/event/hlubek-studio-performance-day/
LOCATION:Hlubek Studio
END:VEVENT
BEGIN:VEVENT
DTSTART;TZID=UTC:20220917T110000
DTEND;TZID=UTC:20220917T123000
DTSTAMP:20260425T133814
CREATED:20220812T153612Z
LAST-MODIFIED:20220823T165951Z
UID:107-1663412400-1663417800@hlubekstudio.com
SUMMARY:Clavinova Ensemble Adventures Performance
DESCRIPTION:
URL:https://hlubekstudio.com/event/clavinova-ensemble-adventures-performance/
LOCATION:Church of the Servant\, 14343 N. MacArthur Blvd.\, Oklahoma City\, OK\, 73142\, United States
END:VEVENT
BEGIN:VEVENT
DTSTART;VALUE=DATE:20220912
DTEND;VALUE=DATE:20220913
DTSTAMP:20260425T133814
CREATED:20220903T024138Z
LAST-MODIFIED:20220903T024138Z
UID:690-1662940800-1663027199@hlubekstudio.com
SUMMARY:Christmas Clavinova Ensemble Forms AND COMTA Theory Escape Room Forms Due!
DESCRIPTION:
URL:https://hlubekstudio.com/event/christmas-clavinova-ensemble-forms-and-comta-theory-escape-room-forms-due/
END:VEVENT
BEGIN:VEVENT
DTSTART;VALUE=DATE:20220904
DTEND;VALUE=DATE:20220906
DTSTAMP:20260425T133814
CREATED:20220823T164412Z
LAST-MODIFIED:20220823T164412Z
UID:625-1662249600-1662422399@hlubekstudio.com
SUMMARY:Labor Day- No Lessons
DESCRIPTION:
URL:https://hlubekstudio.com/event/labor-day-no-lessons/
END:VEVENT
BEGIN:VEVENT
DTSTART;VALUE=DATE:20220828
DTEND;VALUE=DATE:20220829
DTSTAMP:20260425T133814
CREATED:20220616T145839Z
LAST-MODIFIED:20220823T173117Z
UID:56-1661644800-1661731199@hlubekstudio.com
SUMMARY:UCO Jazz Lab- No Lessons
DESCRIPTION:12:45 p.m.\n\n\nBrooks\, Abi\n\n\nBrooks\, Ben\n\n\nConn\, William\n\n\nGehrs\, Ben\n\n\nGehrs\, Nate\n\n\nLink\, Bronwyn\n\n\nLink\, Graham\n\n\nLink\, Murphy\n\n\nYoung\, Jennings\n\n\nYoung\, Reynolds\n\n\n\n\n\n1:30-2:15 p.m.\n\n\nDodge\, Isabelle\n\n\nEchols\, Grace\n\n\nMcCoy\, Allison\n\n\nMcCoy\, Bienson\n\n\nMcCoy\, Jettson\n\n\nMcFarlane\, Macey\n\n\nMcFarlane\, Will\n\n\nPlants\, Kaiya\n\n\nPlants\, Mackenzie\n\n\n\n\n\n2:15-3:00 p.m.\n\n\nBessonov\, Andrew\n\n\nBessonov\, Gregory\n\n\nElla Hyatt \n\n\nEmery Hyatt\n\n\nKelly\, Jace\n\n\nLiu\, Celina\n\n\nWang\, Kason\n\n\nWilliams\, Ben\n\n\nWilliams\, Noah\n\n\n\n\n\n3:00-3:45 p.m.\n\n\nBraddy\, Elizabeth\n\n\nHayhurst\, Elizabeth\n\n\nHorstman\, Audrey\n\n\nHorstman\, George\n\n\nJames\, Elizabeth\n\n\nQureshi\, Sofia\n\n\nStrunk\, Jackson\n\n\nWiliams\, Holden\n\n\nWilliams\, Taylor\n\n\n\n\n\n3:45-4:30 p.m.\n\n\nCourt\, Ben\n\n\nMarkus\, Carleigh\n\n\nMarkus\, Emmie\n\n\nMokhtari\, Aiden\n\n\nMokhtari\, Melody\n\n\nTemple\, Eleni\n\n\nTemple\, Zoe\n\n\nTran\, Jaden\n\n\nTran\, Valerie\n\n\n\n\n\n4:30-5:15 p.m.\n\n\nBackus\, Clayton\n\n\nBarker\, Cody\n\n\nHo\, Brayden\n\n\nHo\, Emily\n\n\nLing\, Mason\n\n\nLing\, Megan\n\n\nNorman\, Brysen\n\n\nNorman\, Kaylee\n\n\nPhung\, Lily
URL:https://hlubekstudio.com/event/uco-jazz-lab/
LOCATION:UCO Jazz Lab\, 100 E. 5th St.\, Edmond\, OK\, 73034\, United States
END:VEVENT
END:VCALENDAR