BEGIN:VCALENDAR
VERSION:2.0
PRODID:-//Hlubek Piano Studio - ECPv6.15.20//NONSGML v1.0//EN
CALSCALE:GREGORIAN
METHOD:PUBLISH
X-WR-CALNAME:Hlubek Piano Studio
X-ORIGINAL-URL:https://hlubekstudio.com
X-WR-CALDESC:Events for Hlubek Piano Studio
REFRESH-INTERVAL;VALUE=DURATION:PT1H
X-Robots-Tag:noindex
X-PUBLISHED-TTL:PT1H
BEGIN:VTIMEZONE
TZID:UTC
BEGIN:STANDARD
TZOFFSETFROM:+0000
TZOFFSETTO:+0000
TZNAME:UTC
DTSTART:20220101T000000
END:STANDARD
END:VTIMEZONE
BEGIN:VEVENT
DTSTART;VALUE=DATE:20240511
DTEND;VALUE=DATE:20240512
DTSTAMP:20260423T210118
CREATED:20230805T011840Z
LAST-MODIFIED:20230805T011840Z
UID:894-1715385600-1715471999@hlubekstudio.com
SUMMARY:Hlubek Studio Spring Recital
DESCRIPTION:
URL:https://hlubekstudio.com/event/hlubek-studio-spring-recital-2/
LOCATION:Spring Creek Baptist Church\, 11701 N. MacArthur\, Oklahoma City\, OK\, 73162\, United States
END:VEVENT
BEGIN:VEVENT
DTSTART;VALUE=DATE:20240511
DTEND;VALUE=DATE:20240512
DTSTAMP:20260423T210118
CREATED:20230805T011604Z
LAST-MODIFIED:20230805T011604Z
UID:889-1715385600-1715471999@hlubekstudio.com
SUMMARY:Spring Recital
DESCRIPTION:
URL:https://hlubekstudio.com/event/spring-recital/
LOCATION:Spring Creek Baptist Church\, 11701 N. MacArthur\, Oklahoma City\, OK\, 73162\, United States
END:VEVENT
BEGIN:VEVENT
DTSTART;VALUE=DATE:20240504
DTEND;VALUE=DATE:20240505
DTSTAMP:20260423T210118
CREATED:20230805T011733Z
LAST-MODIFIED:20230805T011733Z
UID:892-1714780800-1714867199@hlubekstudio.com
SUMMARY:COMTA Festival
DESCRIPTION:
URL:https://hlubekstudio.com/event/comta-festival/
LOCATION:Oklahoma Christian University\, 2501 E Memorial\, Oklahoma City\, Oklahoma
END:VEVENT
BEGIN:VEVENT
DTSTART;VALUE=DATE:20240331
DTEND;VALUE=DATE:20240401
DTSTAMP:20260423T210118
CREATED:20240328T183851Z
LAST-MODIFIED:20240328T183851Z
UID:1695-1711843200-1711929599@hlubekstudio.com
SUMMARY:Easter- No Lessons
DESCRIPTION:
URL:https://hlubekstudio.com/event/easter-no-lessons-3/
LOCATION:Oklahoma
END:VEVENT
BEGIN:VEVENT
DTSTART;VALUE=DATE:20240313
DTEND;VALUE=DATE:20240326
DTSTAMP:20260423T210118
CREATED:20231106T184959Z
LAST-MODIFIED:20240311T234100Z
UID:959-1710288000-1711411199@hlubekstudio.com
SUMMARY:Spring Break- no lessons
DESCRIPTION:
URL:https://hlubekstudio.com/event/fall-break-no-lessons-2/
LOCATION:Oklahoma
END:VEVENT
BEGIN:VEVENT
DTSTART;VALUE=DATE:20240309
DTEND;VALUE=DATE:20240310
DTSTAMP:20260423T210118
CREATED:20230805T012225Z
LAST-MODIFIED:20230805T012933Z
UID:899-1709942400-1710028799@hlubekstudio.com
SUMMARY:OMTA District Achievement Auditions
DESCRIPTION:
URL:https://hlubekstudio.com/event/omta-district-achievement-auditions-2/
LOCATION:Oklahoma Christian University\, 2501 E Memorial\, Oklahoma City\, Oklahoma
END:VEVENT
BEGIN:VEVENT
DTSTART;TZID=UTC:20240224T113000
DTEND;TZID=UTC:20240224T130000
DTSTAMP:20260423T210118
CREATED:20240129T191113Z
LAST-MODIFIED:20240213T164631Z
UID:1270-1708774200-1708779600@hlubekstudio.com
SUMMARY:2024 THEORY DAY
DESCRIPTION:
URL:https://hlubekstudio.com/event/2024-theory-day/
LOCATION:Spring Creek Baptist Church\, 11701 N. MacArthur\, Oklahoma City\, OK\, 73162\, United States
END:VEVENT
BEGIN:VEVENT
DTSTART;TZID=UTC:20240129T080000
DTEND;TZID=UTC:20240129T170000
DTSTAMP:20260423T210118
CREATED:20240129T190911Z
LAST-MODIFIED:20240129T190911Z
UID:1268-1706515200-1706547600@hlubekstudio.com
SUMMARY:THEORY DAY- FEBRUARY 24\, 2024
DESCRIPTION:
URL:https://hlubekstudio.com/event/theory-day-february-24-2024/
LOCATION:Oklahoma
END:VEVENT
BEGIN:VEVENT
DTSTART;VALUE=DATE:20240102
DTEND;VALUE=DATE:20240103
DTSTAMP:20260423T210118
CREATED:20231125T215202Z
LAST-MODIFIED:20231125T215202Z
UID:1226-1704153600-1704239999@hlubekstudio.com
SUMMARY:Spring Session Beings
DESCRIPTION:
URL:https://hlubekstudio.com/event/spring-session-beings/
LOCATION:Hlubek Studio
END:VEVENT
BEGIN:VEVENT
DTSTART;TZID=UTC:20231212T080000
DTEND;TZID=UTC:20231214T170000
DTSTAMP:20260423T210118
CREATED:20230804T200235Z
LAST-MODIFIED:20230804T200235Z
UID:883-1702368000-1702573200@hlubekstudio.com
SUMMARY:Xmas Clavinova Rehearsals
DESCRIPTION:
URL:https://hlubekstudio.com/event/xmas-clavinova-rehearsals/
LOCATION:Larsen Music\, 4001 NW 63rd.\, Oklahoma City\, Oklahoma\, 73116
END:VEVENT
BEGIN:VEVENT
DTSTART;VALUE=DATE:20231209
DTEND;VALUE=DATE:20231210
DTSTAMP:20260423T210118
CREATED:20230804T200110Z
LAST-MODIFIED:20230804T200526Z
UID:881-1702080000-1702166399@hlubekstudio.com
SUMMARY:Xmas Clavinova Performances
DESCRIPTION:
URL:https://hlubekstudio.com/event/xmas-clavinova-performances/
LOCATION:Larsen Music\, 4001 NW 63rd.\, Oklahoma City\, Oklahoma\, 73116
END:VEVENT
BEGIN:VEVENT
DTSTART;TZID=UTC:20231204T080000
DTEND;TZID=UTC:20231204T170000
DTSTAMP:20260423T210118
CREATED:20231018T203128Z
LAST-MODIFIED:20231018T203128Z
UID:924-1701676800-1701709200@hlubekstudio.com
SUMMARY:Last Day of Fall Lessons
DESCRIPTION:
URL:https://hlubekstudio.com/event/last-day-of-fall-lessons/
LOCATION:Hlubek Studio
END:VEVENT
BEGIN:VEVENT
DTSTART;TZID=UTC:20231202T080000
DTEND;TZID=UTC:20231202T170000
DTSTAMP:20260423T210118
CREATED:20230804T195956Z
LAST-MODIFIED:20230804T200010Z
UID:879-1701504000-1701536400@hlubekstudio.com
SUMMARY:Hlubek Studio Christmas Recital
DESCRIPTION:
URL:https://hlubekstudio.com/event/hlubek-studio-christmas-recital-2/
LOCATION:Spring Creek Baptist Church\, 11701 N. MacArthur\, Oklahoma City\, OK\, 73162\, United States
END:VEVENT
BEGIN:VEVENT
DTSTART;VALUE=DATE:20231120
DTEND;VALUE=DATE:20231125
DTSTAMP:20260423T210118
CREATED:20231018T202554Z
LAST-MODIFIED:20231018T202554Z
UID:922-1700438400-1700870399@hlubekstudio.com
SUMMARY:Thanksgiving Break
DESCRIPTION:
URL:https://hlubekstudio.com/event/thanksgiving-break/
LOCATION:Hlubek Studio
END:VEVENT
BEGIN:VEVENT
DTSTART;TZID=UTC:20231104T090000
DTEND;TZID=UTC:20231104T120000
DTSTAMP:20260423T210118
CREATED:20230804T195831Z
LAST-MODIFIED:20230804T195831Z
UID:877-1699088400-1699099200@hlubekstudio.com
SUMMARY:Clavinova Rehearsal
DESCRIPTION:
URL:https://hlubekstudio.com/event/clavinova-rehearsal-7/
LOCATION:Larsen Music\, 4001 NW 63rd.\, Oklahoma City\, Oklahoma\, 73116
END:VEVENT
BEGIN:VEVENT
DTSTART;TZID=UTC:20231029T080000
DTEND;TZID=UTC:20231029T170000
DTSTAMP:20260423T210118
CREATED:20230804T200623Z
LAST-MODIFIED:20230915T183254Z
UID:885-1698566400-1698598800@hlubekstudio.com
SUMMARY:Halloween Silent Movie- No Lessons
DESCRIPTION:
URL:https://hlubekstudio.com/event/halloween-silent-movie/
LOCATION:Edmond Music\, 3400 S. Broadway\, Edmond\, Oklahoma\, 73013
END:VEVENT
BEGIN:VEVENT
DTSTART;TZID=UTC:20231028T090000
DTEND;TZID=UTC:20231028T120000
DTSTAMP:20260423T210118
CREATED:20230804T163336Z
LAST-MODIFIED:20230804T163336Z
UID:874-1698483600-1698494400@hlubekstudio.com
SUMMARY:Clavinova Rehearsal
DESCRIPTION:
URL:https://hlubekstudio.com/event/clavinova-rehearsal-6/
LOCATION:Larsen Music\, 4001 NW 63rd.\, Oklahoma City\, Oklahoma\, 73116
END:VEVENT
BEGIN:VEVENT
DTSTART;VALUE=DATE:20231028
DTEND;VALUE=DATE:20231030
DTSTAMP:20260423T210118
CREATED:20230804T162458Z
LAST-MODIFIED:20230804T163430Z
UID:866-1698451200-1698623999@hlubekstudio.com
SUMMARY:COMTA Theory Escape Room
DESCRIPTION:
URL:https://hlubekstudio.com/event/comta-theory-escape-room-2/
LOCATION:Spring Creek Baptist Church\, 11701 N. MacArthur\, Oklahoma City\, OK\, 73162\, United States
END:VEVENT
BEGIN:VEVENT
DTSTART;TZID=UTC:20231016T080000
DTEND;TZID=UTC:20231020T170000
DTSTAMP:20260423T210118
CREATED:20230915T182730Z
LAST-MODIFIED:20230915T182730Z
UID:911-1697443200-1697821200@hlubekstudio.com
SUMMARY:Fall Break
DESCRIPTION:
URL:https://hlubekstudio.com/event/fall-break/
LOCATION:Oklahoma
END:VEVENT
BEGIN:VEVENT
DTSTART;TZID=UTC:20230916T110000
DTEND;TZID=UTC:20230916T120000
DTSTAMP:20260423T210118
CREATED:20230804T161459Z
LAST-MODIFIED:20230804T161459Z
UID:861-1694862000-1694865600@hlubekstudio.com
SUMMARY:Clavinova Ensemble Adventures Performance
DESCRIPTION:
URL:https://hlubekstudio.com/event/clavinova-ensemble-adventures-performance-2/
LOCATION:Church of the Servant\, 14343 N. MacArthur Blvd.\, Oklahoma City\, OK\, 73142\, United States
END:VEVENT
BEGIN:VEVENT
DTSTART;TZID=UTC:20230909T090000
DTEND;TZID=UTC:20230909T120000
DTSTAMP:20260423T210118
CREATED:20230804T161219Z
LAST-MODIFIED:20230804T161249Z
UID:857-1694250000-1694260800@hlubekstudio.com
SUMMARY:Mandatory Clavinova Rehearsal
DESCRIPTION:
URL:https://hlubekstudio.com/event/clavinova-rehearsal-5/
LOCATION:Larsen Music\, 4001 NW 63rd.\, Oklahoma City\, Oklahoma\, 73116
END:VEVENT
BEGIN:VEVENT
DTSTART;VALUE=DATE:20230831
DTEND;VALUE=DATE:20230911
DTSTAMP:20260423T210118
CREATED:20230804T162220Z
LAST-MODIFIED:20230804T162220Z
UID:864-1693440000-1694390399@hlubekstudio.com
SUMMARY:NO LESSONS
DESCRIPTION:
URL:https://hlubekstudio.com/event/no-lessons/
LOCATION:Oklahoma
END:VEVENT
BEGIN:VEVENT
DTSTART;VALUE=DATE:20230827
DTEND;VALUE=DATE:20230828
DTSTAMP:20260423T210118
CREATED:20230804T160310Z
LAST-MODIFIED:20230804T160940Z
UID:847-1693094400-1693180799@hlubekstudio.com
SUMMARY:UCO Jazz Lab
DESCRIPTION:
URL:https://hlubekstudio.com/event/uco-jazz-lab-2/
LOCATION:UCO Jazz Lab\, 100 E. 5th St.\, Edmond\, OK\, 73034\, United States
END:VEVENT
BEGIN:VEVENT
DTSTART;TZID=UTC:20230826T090000
DTEND;TZID=UTC:20230826T120000
DTSTAMP:20260423T210118
CREATED:20230804T161055Z
LAST-MODIFIED:20230804T161055Z
UID:855-1693040400-1693051200@hlubekstudio.com
SUMMARY:Clavinova Rehearsal
DESCRIPTION:
URL:https://hlubekstudio.com/event/clavinova-rehearsal-4/
LOCATION:Larsen Music\, 4001 NW 63rd.\, Oklahoma City\, Oklahoma\, 73116
END:VEVENT
BEGIN:VEVENT
DTSTART;TZID=UTC:20230819T090000
DTEND;TZID=UTC:20230819T120000
DTSTAMP:20260423T210118
CREATED:20230804T161016Z
LAST-MODIFIED:20230804T161016Z
UID:853-1692435600-1692446400@hlubekstudio.com
SUMMARY:Clavinova Rehearsal
DESCRIPTION:
URL:https://hlubekstudio.com/event/clavinova-rehearsal-3/
LOCATION:Larsen Music\, 4001 NW 63rd.\, Oklahoma City\, Oklahoma\, 73116
END:VEVENT
BEGIN:VEVENT
DTSTART;TZID=UTC:20230812T090000
DTEND;TZID=UTC:20230812T120000
DTSTAMP:20260423T210118
CREATED:20230804T160912Z
LAST-MODIFIED:20230804T160912Z
UID:851-1691830800-1691841600@hlubekstudio.com
SUMMARY:Clavinova Rehearsal
DESCRIPTION:
URL:https://hlubekstudio.com/event/clavinova-rehearsal-2/
LOCATION:Larsen Music\, 4001 NW 63rd.\, Oklahoma City\, Oklahoma\, 73116
END:VEVENT
BEGIN:VEVENT
DTSTART;TZID=UTC:20230808T090000
DTEND;TZID=UTC:20230808T103000
DTSTAMP:20260423T210118
CREATED:20230724T223722Z
LAST-MODIFIED:20230724T223802Z
UID:845-1691485200-1691490600@hlubekstudio.com
SUMMARY:Water Day
DESCRIPTION:
URL:https://hlubekstudio.com/event/water-day/
LOCATION:Church of the Servant\, 14343 N. MacArthur Blvd.\, Oklahoma City\, OK\, 73142\, United States
END:VEVENT
BEGIN:VEVENT
DTSTART;TZID=UTC:20230805T090000
DTEND;TZID=UTC:20230805T120000
DTSTAMP:20260423T210118
CREATED:20230804T160724Z
LAST-MODIFIED:20230804T160724Z
UID:849-1691226000-1691236800@hlubekstudio.com
SUMMARY:Clavinova Rehearsal
DESCRIPTION:
URL:https://hlubekstudio.com/event/clavinova-rehearsal/
LOCATION:Larsen Music\, 4001 NW 63rd.\, Oklahoma City\, Oklahoma\, 73116
END:VEVENT
BEGIN:VEVENT
DTSTART;VALUE=DATE:20230730
DTEND;VALUE=DATE:20230731
DTSTAMP:20260423T210118
CREATED:20230724T223500Z
LAST-MODIFIED:20230724T223540Z
UID:843-1690675200-1690761599@hlubekstudio.com
SUMMARY:Fall Semester Begins!
DESCRIPTION:
URL:https://hlubekstudio.com/event/fall-semester-begins/
LOCATION:Hlubek Studio
END:VEVENT
BEGIN:VEVENT
DTSTART;TZID=UTC:20230724T080000
DTEND;TZID=UTC:20230728T170000
DTSTAMP:20260423T210118
CREATED:20230511T184511Z
LAST-MODIFIED:20230511T184544Z
UID:824-1690185600-1690563600@hlubekstudio.com
SUMMARY:July 24-28 Kamp Keyboard- Teaching 5:00-8:30 p.m.
DESCRIPTION:
URL:https://hlubekstudio.com/event/july-24-28-kamp-keyboard-teaching-500-830-p-m/
LOCATION:Oklahoma
END:VEVENT
END:VCALENDAR