BEGIN:VCALENDAR
VERSION:2.0
PRODID:-//Hlubek Piano Studio - ECPv6.15.20//NONSGML v1.0//EN
CALSCALE:GREGORIAN
METHOD:PUBLISH
X-ORIGINAL-URL:https://hlubekstudio.com
X-WR-CALDESC:Events for Hlubek Piano Studio
REFRESH-INTERVAL;VALUE=DURATION:PT1H
X-Robots-Tag:noindex
X-PUBLISHED-TTL:PT1H
BEGIN:VTIMEZONE
TZID:UTC
BEGIN:STANDARD
TZOFFSETFROM:+0000
TZOFFSETTO:+0000
TZNAME:UTC
DTSTART:20250101T000000
END:STANDARD
END:VTIMEZONE
BEGIN:VEVENT
DTSTART;TZID=UTC:20260515T080000
DTEND;TZID=UTC:20260516T170000
DTSTAMP:20260423T210610
CREATED:20251121T020754Z
LAST-MODIFIED:20251121T020934Z
UID:2465-1778832000-1778950800@hlubekstudio.com
SUMMARY:State Achievement Auditions
DESCRIPTION:
URL:https://hlubekstudio.com/event/state-achievement-auditions-2/
LOCATION:Oklahoma
END:VEVENT
END:VCALENDAR