BEGIN:VCALENDAR
VERSION:2.0
PRODID:-//Hlubek Piano Studio - ECPv6.15.20//NONSGML v1.0//EN
CALSCALE:GREGORIAN
METHOD:PUBLISH
X-WR-CALNAME:Hlubek Piano Studio
X-ORIGINAL-URL:https://hlubekstudio.com
X-WR-CALDESC:Events for Hlubek Piano Studio
REFRESH-INTERVAL;VALUE=DURATION:PT1H
X-Robots-Tag:noindex
X-PUBLISHED-TTL:PT1H
BEGIN:VTIMEZONE
TZID:UTC
BEGIN:STANDARD
TZOFFSETFROM:+0000
TZOFFSETTO:+0000
TZNAME:UTC
DTSTART:20240101T000000
END:STANDARD
END:VTIMEZONE
BEGIN:VEVENT
DTSTART;VALUE=DATE:20250802
DTEND;VALUE=DATE:20250803
DTSTAMP:20260424T074729
CREATED:20250725T152914Z
LAST-MODIFIED:20250725T155202Z
UID:2371-1754092800-1754179199@hlubekstudio.com
SUMMARY:Clavinova Ensemble Adventures Rehearsal
DESCRIPTION:
URL:https://hlubekstudio.com/event/clavinova-ensemble-adventures-rehearsal/
LOCATION:Larsen Music\, 4001 NW 63rd.\, Oklahoma City\, Oklahoma\, 73116
END:VEVENT
END:VCALENDAR