BEGIN:VCALENDAR
VERSION:2.0
PRODID:-//Hlubek Piano Studio - ECPv6.15.20//NONSGML v1.0//EN
CALSCALE:GREGORIAN
METHOD:PUBLISH
X-ORIGINAL-URL:https://hlubekstudio.com
X-WR-CALDESC:Events for Hlubek Piano Studio
REFRESH-INTERVAL;VALUE=DURATION:PT1H
X-Robots-Tag:noindex
X-PUBLISHED-TTL:PT1H
BEGIN:VTIMEZONE
TZID:UTC
BEGIN:STANDARD
TZOFFSETFROM:+0000
TZOFFSETTO:+0000
TZNAME:UTC
DTSTART:20230101T000000
END:STANDARD
END:VTIMEZONE
BEGIN:VEVENT
DTSTART;VALUE=DATE:20241108
DTEND;VALUE=DATE:20241110
DTSTAMP:20260425T170146
CREATED:20240818T044058Z
LAST-MODIFIED:20240818T044058Z
UID:1745-1731024000-1731196799@hlubekstudio.com
SUMMARY:Theory Escape Room
DESCRIPTION:
URL:https://hlubekstudio.com/event/theory-escape-room/
LOCATION:Spring Creek Baptist Church\, 11701 N. MacArthur\, Oklahoma City\, OK\, 73162\, United States
END:VEVENT
END:VCALENDAR